BEGIN:VCALENDAR
VERSION:2.0
PRODID:-//Park Matilo - ECPv6.15.20//NONSGML v1.0//EN
CALSCALE:GREGORIAN
METHOD:PUBLISH
X-ORIGINAL-URL:https://parkmatilo.nl
X-WR-CALDESC:Evenementen voor Park Matilo
REFRESH-INTERVAL;VALUE=DURATION:PT1H
X-Robots-Tag:noindex
X-PUBLISHED-TTL:PT1H
BEGIN:VTIMEZONE
TZID:Europe/Amsterdam
BEGIN:DAYLIGHT
TZOFFSETFROM:+0100
TZOFFSETTO:+0200
TZNAME:CEST
DTSTART:20240331T010000
END:DAYLIGHT
BEGIN:STANDARD
TZOFFSETFROM:+0200
TZOFFSETTO:+0100
TZNAME:CET
DTSTART:20241027T010000
END:STANDARD
BEGIN:DAYLIGHT
TZOFFSETFROM:+0100
TZOFFSETTO:+0200
TZNAME:CEST
DTSTART:20250330T010000
END:DAYLIGHT
BEGIN:STANDARD
TZOFFSETFROM:+0200
TZOFFSETTO:+0100
TZNAME:CET
DTSTART:20251026T010000
END:STANDARD
BEGIN:DAYLIGHT
TZOFFSETFROM:+0100
TZOFFSETTO:+0200
TZNAME:CEST
DTSTART:20260329T010000
END:DAYLIGHT
BEGIN:STANDARD
TZOFFSETFROM:+0200
TZOFFSETTO:+0100
TZNAME:CET
DTSTART:20261025T010000
END:STANDARD
BEGIN:DAYLIGHT
TZOFFSETFROM:+0100
TZOFFSETTO:+0200
TZNAME:CEST
DTSTART:20270328T010000
END:DAYLIGHT
BEGIN:STANDARD
TZOFFSETFROM:+0200
TZOFFSETTO:+0100
TZNAME:CET
DTSTART:20271031T010000
END:STANDARD
END:VTIMEZONE
BEGIN:VEVENT
DTSTART;TZID=Europe/Amsterdam:20250713T110000
DTEND;TZID=Europe/Amsterdam:20250713T180000
DTSTAMP:20260425T231521
CREATED:20250522T095045Z
LAST-MODIFIED:20250710T185313Z
UID:4793-1752404400-1752429600@parkmatilo.nl
SUMMARY:Hondenpoot- en footprint/foodprint Festival
DESCRIPTION:Een bijzonder evenement voor iedereen!\nArcheoloog Julia Chorus en kunstenares Claudia Thunnissen organiseren opnieuw een heel gaaf – en gratis – festival*! \nZondag 13 juli 11.00 – 18.00 uur. De workshops en andere activiteiten eindigen om 17 uur. Vanaf 16 uur is er muziek en kun je tot 18.00 uur blijven om lekker te eten bij de foodkraampjes.  Deelname is gratis\, aanmelden is niet nodig.\nhondenpoot2024@gmail.com \n  \n           \nEen bijzonder evenement voor iedereen! Wat gebeurt er wanneer: \nOm 11. 00 uur : feestelijke openingsceremonie!  \nvan 11.00 tot 17.00 uur: \n\nJe hond een pootafdruk in een kleitegel laten zetten**\nSpeurtocht Speurhond: zoeken naar letters langs plekken die met de (Romeinse) hond te maken hebben\nWorkshop Werken met wol in de Romeinse tijd: Romeinse tijd\nWorkshop Cave canem mozaïekjes maken ( zie ook onder Speciaal voor kinderen)\nDemonstratie Romeinse kaas maken\nRomeinse Proeverij\nRomeinse vicus aan de Rijntent: archeologen met vondsten op tafel uit opgravingen langs de Romeinse limes\nExpositie Cave canem: hond in de Romeinse tijd\, met vondsten zoals dakpannen met pootafdruk en honden uit Matilo\nHondenschool Dogstart met allerlei activiteiten en ook voor vragen over uw hond\nDoorlopend filmpje\n\nOp speciale tijden:\nDemonstraties schapen drijven met een bordercollie:  12.00-12.30\, 13.30-14.00\, 15.00-15.30\nLezingen in de Vicustent: 12.30 – 13.00 > Over hondenpootafdrukken op Romeins baksteen door Julia Chorus\nen 16.00 – 16.30 > over Romeinse en Germaanse kaas\, door Claudia Thunnissen.\nMuziektheater: zie voor tijden op de borden\nhandboogschieten bij Handboogvereniging Sagittatus. 13.30 – 15.30 (tegen kleine vergoeding)\n\nSpeciaal voor kinderen:  \nWorkshop kleine mozaïekjes maken \nIn de Romeinse tijd zijn er prachtige mozaïeken gemaakt\, met fraaie patronen en allerlei onderwerpen. Wil je zelf eens een echt Romeins mozaïekje maken met echte marmeren steentjes\, dan kan dat op zondag 13 juli. In een workshop leer je hoe dat moet. De workshop is voor kinderen\, maar volwassenen zijn natuurlijk ook welkom! Je mag je mozaïekje meenemen. Je kunt het als onderzetter gebruiken of ophangen. \nElke workshop duurt drie kwartier\, zodat meer mensen aan bod kunnen komen. Meld je dus op tijd aan bij de tent. \nTijden workshop Kleine mozaïekjes maken:  \n\n11.15 – 12.00 uur\n12.15 – 13.00 uur\n13.45 – 14.30 uur\n14.45 – 15.30 uur\n15.45 – 16.30 uur\n\n  \n16.00 – 18.00 uur:  \n\nJazzmuziek met Carmina Latina door het Judith Nijland Kwartet\n\nFoodmarkt\, met onder meer: \n\nImker met honingverkoop\nDe Perzische Saffrankeuken van Soheila\nWereldkeuken van het Leids Steunloket Migranten\nBroodje Hotdog\nBiologisch ijs\nVerkoop koffie\, thee\, sap en alcoholvrij bier\n\nInformatie over Park Matilo en meer:\nVrijwilligers van o.a. stichting Mooi Matilo zijn aanwezig met informatie over de Romeinse en middeleeuwse achtergrond van Park Matilo en de Romeinse tuin. Anderen vertellen over voedselbos land van Overpoot\n \n**Eén pootafdruk is voor een toekomstig kunstwerk voor voedselbos Land van Overpoot (óók in Park Matilo!) \, de andere kun je tegen een kleine vergoeding voor klei- en stookkosten na de zomer\, na bakken\, komen ophalen) \n*Het festival wordt mede mogelijk gemaakt door Provincie Zuid-Holland\, het Cultuurfonds\, Fonds 1818\, Gemeente Leiden\, Nederlandse Limessamenwerking-Erfgoedhuis Zuid-Holland\, Wijkvereniging RoMe en Stichting Ontsloten Verleden. \n     \n  \n  \n 
URL:https://parkmatilo.nl/events/food-tprintfestival/
LOCATION:Fabrica\, midden in het park\, Park Matilo\, Leiden\, Zuid-Holland\, Nederland
CATEGORIES:Hondenpoot,Lezing,Romeinen
ATTACH;FMTTYPE=image/jpeg:https://parkmatilo.nl/wp-content/uploads/2025/05/RV_CaveCanem_buttons-56mm_DEF-1.jpg
ORGANIZER;CN="Julia Chorus en Claudia Thunissen":MAILTO:mailto:hondenpoot2024@gmail.com
END:VEVENT
BEGIN:VEVENT
DTSTART;TZID=Europe/Amsterdam:20260425T080000
DTEND;TZID=Europe/Amsterdam:20260425T170000
DTSTAMP:20260425T231521
CREATED:20260425T210552Z
LAST-MODIFIED:20260425T211324Z
UID:5599-1777104000-1777136400@parkmatilo.nl
SUMMARY:Lezing: Een heilzame vergissing
DESCRIPTION:Hoe kan iets een vergissing zijn\, en toch heilzaam? \nDat kun je gaan horen in de lezing van Cornelis van Tilburg op zondagmiddag 24 mei.\nHij gaat vertellen over hygiëne in een oude Romeins stad en hoe dat de komst van ons eigen rioleringssysteem heeft beïnvloed bijvoorbeeld.\nDe Romeinen waren vooruitstrevend met hun badhuizen\, toiletten\, aquaducten. Maar waren ze ook schoner\, gezonder? \n \nMythen en feiten komen in deze boeiende\, met foto’s aangevulde en vlot vertelde lezing aanbod.\nDe lezing duurt ongeveer een uur\, exclusief vragen. \nTijdstip: 13.00 uur.  Bij meer dan 12 aanmeldingen ook nog om 15.00 uur\nWaar: Fabrica in park Matilo\, Leiden\nKosten: gratis! \nDe Fabrica is niet zo groot. Om teleurstellingen te vermijden verzoeken we u zich aan te melden via info@parkmatilo.nl  \nCornelis van Tilburg is als classicus verbonden aan de Universiteit Leiden\, meer als historicus dan als taalkundige. Hij schreef de boeken ‘Romeins Verkeer\, weggebruik en verkeersdrukte in het Romeinse Rijk’  en  ‘Oudheid\, reinheid en gezondheid’ en geeft lezingen in binnen- en buitenland. Daarnaast is hij een van de rondleiders/verhalenvertellers van st. Mooi Matilo.
URL:https://parkmatilo.nl/events/lezing-een-heilzame-vergissing/
CATEGORIES:Lezing
ATTACH;FMTTYPE=image/jpeg:https://parkmatilo.nl/wp-content/uploads/2026/04/Romeins-riool.jpg
END:VEVENT
END:VCALENDAR