BEGIN:VCALENDAR
VERSION:2.0
PRODID:-//Park Matilo - ECPv6.15.20//NONSGML v1.0//EN
CALSCALE:GREGORIAN
METHOD:PUBLISH
X-WR-CALNAME:Park Matilo
X-ORIGINAL-URL:https://parkmatilo.nl
X-WR-CALDESC:Evenementen voor Park Matilo
REFRESH-INTERVAL;VALUE=DURATION:PT1H
X-Robots-Tag:noindex
X-PUBLISHED-TTL:PT1H
BEGIN:VTIMEZONE
TZID:Europe/Amsterdam
BEGIN:DAYLIGHT
TZOFFSETFROM:+0100
TZOFFSETTO:+0200
TZNAME:CEST
DTSTART:20230326T010000
END:DAYLIGHT
BEGIN:STANDARD
TZOFFSETFROM:+0200
TZOFFSETTO:+0100
TZNAME:CET
DTSTART:20231029T010000
END:STANDARD
BEGIN:DAYLIGHT
TZOFFSETFROM:+0100
TZOFFSETTO:+0200
TZNAME:CEST
DTSTART:20240331T010000
END:DAYLIGHT
BEGIN:STANDARD
TZOFFSETFROM:+0200
TZOFFSETTO:+0100
TZNAME:CET
DTSTART:20241027T010000
END:STANDARD
BEGIN:DAYLIGHT
TZOFFSETFROM:+0100
TZOFFSETTO:+0200
TZNAME:CEST
DTSTART:20250330T010000
END:DAYLIGHT
BEGIN:STANDARD
TZOFFSETFROM:+0200
TZOFFSETTO:+0100
TZNAME:CET
DTSTART:20251026T010000
END:STANDARD
END:VTIMEZONE
BEGIN:VEVENT
DTSTART;TZID=Europe/Amsterdam:20241013T140000
DTEND;TZID=Europe/Amsterdam:20241013T173000
DTSTAMP:20260423T022620
CREATED:20240912T120307Z
LAST-MODIFIED:20240912T122750Z
UID:4516-1728828000-1728840600@parkmatilo.nl
SUMMARY:Lezing Romeinse Wegenbouw
DESCRIPTION:Oktober is de Maand van de Geschiedenis! \nCornelis van Tilburg\, onderzoeker aan de Universiteit van Leiden\, komt ter ere daarvan vertellen over zijn onderzoek naar Romeinse wegenbouw. Want hoe deden die Romeinen dat? Ze moesten wegen aanleggen in de bergen\, door moerassen en andere landschappen\, van Rome tot in Matilo! Bouwden ze al bruggen? Groeven ze tunnels? Ontdek het tijdens deze boeiende lezing en stel al je vragen tijdens de thee/koffie na afloop. \nDeelname is gratis\, wel graag van tevoren opgeven via muma@parkmatilo.nl \n 
URL:https://parkmatilo.nl/events/lezing-romeinse-wegenbouw/
LOCATION:Fabrica\, midden in het park\, Park Matilo\, Leiden\, Zuid-Holland\, Nederland
CATEGORIES:Archeologie,Castellum Matilo,Educatie,evenement,Lezing,Park Matilo,Romeinen,Romeinse Mijl
ATTACH;FMTTYPE=image/jpeg:https://parkmatilo.nl/wp-content/uploads/2024/09/Ancient_Roman_road_of_Tall_Aqibrin-kopie-2-scaled.jpg
ORGANIZER;CN="Dorothee Olthof":MAILTO:info@prae.biz
END:VEVENT
BEGIN:VEVENT
DTSTART;VALUE=DATE:20240512
DTEND;VALUE=DATE:20240513
DTSTAMP:20260423T022620
CREATED:20240322T121040Z
LAST-MODIFIED:20240322T121040Z
UID:3959-1715472000-1715558399@parkmatilo.nl
SUMMARY:Leidse Marathon met de Romeinse Mijl (zondag 12 mei 2024)
DESCRIPTION:Zondag 12 mei: Leidse Marathon met de Romeinse Mijl. De 10 km van de Leidse Marathon gaat dwars door Park Matilo. Een bijzonder onderdeel ervan is de Romeinse mijl: wie rent het snelst 1000 Romeinse passen (ca. 1\,5 km)? Doe mee of kom de hardlopers aanmoedigen!\nwww.marathon.nl
URL:https://parkmatilo.nl/events/leidse-marathon-met-de-romeinse-mijl-zondag-12-mei-2024/
LOCATION:Park Matilo Leiden\, 4GX9+X6 Leiden\, Leiden\, Zuid Holland\, 2314AZ\, Nederland
CATEGORIES:Marathon,Romeinse Mijl
ATTACH;FMTTYPE=image/jpeg:https://parkmatilo.nl/wp-content/uploads/2024/03/2024-03-Romeinse-Mijl.jpg
END:VEVENT
END:VCALENDAR