BEGIN:VCALENDAR
VERSION:2.0
PRODID:-//Park Matilo - ECPv6.15.20//NONSGML v1.0//EN
CALSCALE:GREGORIAN
METHOD:PUBLISH
X-WR-CALNAME:Park Matilo
X-ORIGINAL-URL:https://parkmatilo.nl
X-WR-CALDESC:Evenementen voor Park Matilo
REFRESH-INTERVAL;VALUE=DURATION:PT1H
X-Robots-Tag:noindex
X-PUBLISHED-TTL:PT1H
BEGIN:VTIMEZONE
TZID:Europe/Amsterdam
BEGIN:DAYLIGHT
TZOFFSETFROM:+0100
TZOFFSETTO:+0200
TZNAME:CEST
DTSTART:20220327T010000
END:DAYLIGHT
BEGIN:STANDARD
TZOFFSETFROM:+0200
TZOFFSETTO:+0100
TZNAME:CET
DTSTART:20221030T010000
END:STANDARD
BEGIN:DAYLIGHT
TZOFFSETFROM:+0100
TZOFFSETTO:+0200
TZNAME:CEST
DTSTART:20230326T010000
END:DAYLIGHT
BEGIN:STANDARD
TZOFFSETFROM:+0200
TZOFFSETTO:+0100
TZNAME:CET
DTSTART:20231029T010000
END:STANDARD
BEGIN:DAYLIGHT
TZOFFSETFROM:+0100
TZOFFSETTO:+0200
TZNAME:CEST
DTSTART:20240331T010000
END:DAYLIGHT
BEGIN:STANDARD
TZOFFSETFROM:+0200
TZOFFSETTO:+0100
TZNAME:CET
DTSTART:20241027T010000
END:STANDARD
BEGIN:DAYLIGHT
TZOFFSETFROM:+0100
TZOFFSETTO:+0200
TZNAME:CEST
DTSTART:20250330T010000
END:DAYLIGHT
BEGIN:STANDARD
TZOFFSETFROM:+0200
TZOFFSETTO:+0100
TZNAME:CET
DTSTART:20251026T010000
END:STANDARD
BEGIN:DAYLIGHT
TZOFFSETFROM:+0100
TZOFFSETTO:+0200
TZNAME:CEST
DTSTART:20260329T010000
END:DAYLIGHT
BEGIN:STANDARD
TZOFFSETFROM:+0200
TZOFFSETTO:+0100
TZNAME:CET
DTSTART:20261025T010000
END:STANDARD
END:VTIMEZONE
BEGIN:VEVENT
DTSTART;TZID=Europe/Amsterdam:20231029T140000
DTEND;TZID=Europe/Amsterdam:20231029T153000
DTSTAMP:20260422T043557
CREATED:20231005T093146Z
LAST-MODIFIED:20231028T184858Z
UID:3587-1698588000-1698593400@parkmatilo.nl
SUMMARY:Rondleiding door een Romeins soldaat (29 oktober 2023): Geannuleerd
DESCRIPTION:Update 28-10-2023: Door omstandigheden gaat deze rondleiding niet door. Iedereen die zich aangemeld heeft is op de hoogte gebracht. \nZondag 29 oktober\, 14.00-15.30 uur: Rondleiding door een Romeins soldaat\nWandel mee met een (bijna) echte Romeinse soldaat en ontdek de spannende geschiedenis van Park Matilo. Waarom bouwden de Romeinen hier tweeduizend jaar geleden een fort? Waar kwamen de soldaten vandaan? Hoe verdedigden en bewaakten ze de Rijngrens? Hoe was het leven in het fort?\nJip Meijer van Durendale Battlefield Tours vertelt er alles over wat je zou willen weten!\nDe rondleiding start bij de FABRICA\, het bezoekerscentrum midden in het park.
URL:https://parkmatilo.nl/events/rondleiding-door-een-romeins-soldaat-29-oktober-2023/
LOCATION:Fabrica\, midden in het park\, Park Matilo\, Leiden\, Zuid-Holland\, Nederland
CATEGORIES:Park Matilo,Romeinen,Rondleiding
ATTACH;FMTTYPE=image/jpeg:https://parkmatilo.nl/wp-content/uploads/2023/10/Rondleiding-Castellum_Matilo_entreetoren_Romeinse_soldaten_op_wacht_20170806_fotoCThunnissen-scaled.jpg
ORGANIZER;CN="Jip Meijer":MAILTO:info@durendale.nl
END:VEVENT
BEGIN:VEVENT
DTSTART;TZID=Europe/Amsterdam:20231112T130000
DTEND;TZID=Europe/Amsterdam:20231112T143000
DTSTAMP:20260422T043557
CREATED:20231005T095951Z
LAST-MODIFIED:20231005T102012Z
UID:3595-1699794000-1699799400@parkmatilo.nl
SUMMARY:Herfstige wildplukwandeling (12 november 2023)
DESCRIPTION:Zondag 12 november\, 13.00-14.30 uur: Herfstige wildplukwandeling\nWat is er nog te oogsten in de late herfst in Park Matilo? Welke noten en vruchten komen we tegen en welk groen staat er nog fris bij? Archeobotaniste Ellis Grootveld van Plant-Aardig vertelt over eetbare planten\, archeologische achtergronden en historisch gebruik. Laat je verrassen door vergeten vruchten en proef hun verwarmende toepassingen tijdens deze herfstwandeling door het park.\nDe wandeling start bij de Fabrica\, het bezoekerscentrum midden in het park.\nKaartjes kosten € 6\,50 p.p. incl. proeverij en een drankje na afloop.
URL:https://parkmatilo.nl/events/herfstige-wildplukwandeling-12-november-2023/
LOCATION:Fabrica\, midden in het park\, Park Matilo\, Leiden\, Zuid-Holland\, Nederland
CATEGORIES:Park Matilo,Planten in Park Matilo,Rondleiding,Wildplukken
ATTACH;FMTTYPE=image/jpeg:https://parkmatilo.nl/wp-content/uploads/2023/10/Wildplukwandeling-12-nov-XX.jpg
ORGANIZER;CN="Ellis Grootveld":MAILTO:ellisgrootveld@gmail.com
END:VEVENT
BEGIN:VEVENT
DTSTART;TZID=Europe/Amsterdam:20231126T143000
DTEND;TZID=Europe/Amsterdam:20231126T150000
DTSTAMP:20260422T043557
CREATED:20231005T095101Z
LAST-MODIFIED:20231126T085827Z
UID:3592-1701009000-1701010800@parkmatilo.nl
SUMMARY:Rondleiding door een Romeins soldaat (26 november 2023) (geannuleerd)
DESCRIPTION:Zondag 26 november\, 14.30-15.00 uur: Rondleiding door een Romeins soldaat\nWandel mee met een (bijna) echte Romeinse soldaat en ontdek de spannende geschiedenis van Park Matilo. Waarom bouwden de Romeinen hier tweeduizend jaar geleden een fort? Waar kwamen de soldaten vandaan? Hoe verdedigden en bewaakten ze de Rijngrens? Hoe was het leven in het fort? Jip Meijer van Durendale Battlefield Tours\nvertelt er alles over wat je zou willen weten!\nDe rondleiding start bij de Fabrica\, het bezoekerscentrum midden in het park.\nKaartjes kosten € 6\,50 p.p. incl. een drankje na afloop. \nDoor omstandigheden is deze rondleiding geannuleerd. Iedereen die zich aangemeld heeft is hiervan op de hoogte gebracht.
URL:https://parkmatilo.nl/events/rondleiding-door-een-romeins-soldaat-26-november-2023/
LOCATION:Fabrica\, midden in het park\, Park Matilo\, Leiden\, Zuid-Holland\, Nederland
CATEGORIES:Park Matilo,Romeinen,Rondleiding
ATTACH;FMTTYPE=image/jpeg:https://parkmatilo.nl/wp-content/uploads/2023/10/Rondleiding-Castellum_Matilo_entreetoren_Romeinse_soldaten_op_wacht_20170806_fotoCThunnissen-scaled.jpg
END:VEVENT
BEGIN:VEVENT
DTSTART;TZID=Europe/Amsterdam:20240121T140000
DTEND;TZID=Europe/Amsterdam:20240121T153000
DTSTAMP:20260422T043557
CREATED:20231106T112134Z
LAST-MODIFIED:20231224T080544Z
UID:3670-1705845600-1705851000@parkmatilo.nl
SUMMARY:Romeinen in de kou (zondag 21 januari 2024\, 14.00-15.30 uur)
DESCRIPTION:Romeinen in de kou \nHoe kwamen de Romeinen de winter door in ons koude kikkerlandje? Hadden ze wel warme kleren? Verwarmende winterkost? Misschien zelfs een warm bad? Ontdek het tijdens een boeiende wandeling in Park Matilo in wintertooi. De Romeinse soldaat Gaius Julius vertelt er alles over. Na afloop warmen we op met een heerlijk kopje thee\, chocolademelk of koffie.
URL:https://parkmatilo.nl/events/romeinen-in-de-kou-zondag-21-januari-2024-14-00-15-30-uur/
LOCATION:Fabrica\, midden in het park\, Park Matilo\, Leiden\, Zuid-Holland\, Nederland
CATEGORIES:Park Matilo,Romeinen,Rondleiding,Winter
ATTACH;FMTTYPE=image/jpeg:https://parkmatilo.nl/wp-content/uploads/2023/11/Romeinse-soldaat.jpg
ORGANIZER;CN="Jip Meijer":MAILTO:info@durendale.nl
END:VEVENT
BEGIN:VEVENT
DTSTART;TZID=Europe/Amsterdam:20240324T130000
DTEND;TZID=Europe/Amsterdam:20240324T143000
DTSTAMP:20260422T043557
CREATED:20231106T115008Z
LAST-MODIFIED:20240302T195733Z
UID:3683-1711285200-1711290600@parkmatilo.nl
SUMMARY:Familiewandeling Romeinen in Matilo (zondag 24 maart 2024\, 13.00-14.30 uur)
DESCRIPTION:Familiewandeling Romeinen in Matilo \nHoe leefden de Romeinen in fort Matilo? Wat aten ze\, hoe schreven ze\, waarmee maakten ze vuur\, roken ze wel een beetje lekker? En wat zouden archeologen hier allemaal van teruggevonden hebben? Neem je (groot)ouders mee en wandel gezellig mee met Dorothee Olthof van PRAE\, archeologie en educatie. Zij vertelt alles wat je wilt weten! Ter afsluiting maken we een mooi Romeins naamplaatje om mee naar huis te nemen.
URL:https://parkmatilo.nl/events/familiewandeling-romeinen-in-matilo-zondag-24-maart-2024-13-00-14-30-uur/
LOCATION:Fabrica\, midden in het park\, Park Matilo\, Leiden\, Zuid-Holland\, Nederland
CATEGORIES:Park Matilo,Romeinen,Rondleiding
ATTACH;FMTTYPE=image/jpeg:https://parkmatilo.nl/wp-content/uploads/2023/03/archeologieworkshop.jpeg
ORGANIZER;CN="Dorothee Olthof":MAILTO:info@prae.biz
END:VEVENT
BEGIN:VEVENT
DTSTART;TZID=Europe/Amsterdam:20240915T100000
DTEND;TZID=Europe/Amsterdam:20240915T170000
DTSTAMP:20260422T043557
CREATED:20240912T122339Z
LAST-MODIFIED:20240912T122339Z
UID:4524-1726394400-1726419600@parkmatilo.nl
SUMMARY:Interactieve rondleidingen tijdens Open Monumentendag
DESCRIPTION:Zondag 15 september 10.00-17.00 uur Open Monumentendagen \nDe Fabrica is open en archeologe Dorothee Olthof geeft deze dag drie interactieve rondleidingen voor jong (vanaf ca. 7 jaar) en oud: \n11.00-12.00 uur          De Historische Tuinen Matilo in geur en kleur \n13.00-14.00 uur          Romeins leven in Fort Matilo \n15.00-16.00 uur          De archeologie van Park Matilo \nDeelname is gratis\, maar kom op tijd\, want het aantal deelnemers is beperkt. \nø;
URL:https://parkmatilo.nl/events/interactieve-rondleidingen-tijdens-open-monumentendag/
LOCATION:Fabrica\, midden in het park\, Park Matilo\, Leiden\, Zuid-Holland\, Nederland
CATEGORIES:Historische tuinen,Open Monumentendagen,Park Matilo,Romeinen,Rondleiding
ATTACH;FMTTYPE=image/jpeg:https://parkmatilo.nl/wp-content/uploads/2024/04/2024-04-14-om-17.39.57.jpg
ORGANIZER;CN="Dorothee Olthof":MAILTO:info@prae.biz
END:VEVENT
BEGIN:VEVENT
DTSTART;TZID=Europe/Amsterdam:20250601T130000
DTEND;TZID=Europe/Amsterdam:20250601T170000
DTSTAMP:20260422T043557
CREATED:20250506T205533Z
LAST-MODIFIED:20250524T100752Z
UID:4782-1748782800-1748797200@parkmatilo.nl
SUMMARY:Hebben de Romeinen in fort Matilo Asterix & Obelix ontmoet?
DESCRIPTION:Dat zou wat zijn als de Romeinse militairen 2000 jaar geleden in fort Matilo Asterix en Obelix zouden hebben ontmoet!\nDat kan dus niet ;-(  maar andere echte Kelten misschien wel. Misschien was een van hen zelf wel een Kelt…. \nWekelijkse rondleidingen\nWil jij ook het verhaal horen van Romeinse militairen\, vrouwen en kinderen in fort Matilo? Over bijvoorbeeld de Romeinse grens (Limes)\, de Romeinse wegen\, boten\, hun eten en drinken\, vechttrainingen\, natte voeten en muggenplagen? En wat er is gevonden in park Matilo van deze – en andere!- voorouders? En waarom deze historische plek Unesco Werelderfgoed is geworden? \nVrijwilligers van st. Mooi Matilo staan op zondagmiddagen klaar om jullie vragen te beantwoorden en mooie verhalen te vertellen. Gratis en zonder afspraak!  \nKom gewoon tussen 13.00-17.00 uur  naar de Fabrica\, het gebouwtje in park Matilo bij de Romeinse wachttoren. Daar staan onze gastvrouwen en -heren dan voor jullie klaar met informatie\, koffie\, thee en een gezellig praatje!\n\nTip! Bezoek net buiten de wal van het fort ook eens de Romeinse tuin.\nTip 2! En het Rijksmuseum voor Oudheden in Leiden\, om prachtige Romeinse spullen te bekijken. \n       \n 
URL:https://parkmatilo.nl/events/hebben-de-romeinen-in-fort-matilo-asterix-obelix-ontmoet/
LOCATION:Fabrica\, midden in het park\, Park Matilo\, Leiden\, Zuid-Holland\, Nederland
CATEGORIES:Fabrica,Rondleiding
ATTACH;FMTTYPE=image/jpeg:https://parkmatilo.nl/wp-content/uploads/2024/09/vrijwilligers-fabrica.jpg
ORGANIZER;CN="St. Mooi Matilo":MAILTO:inf0@parkmatilo.nl
END:VEVENT
BEGIN:VEVENT
DTSTART;TZID=Europe/Amsterdam:20250726T100000
DTEND;TZID=Europe/Amsterdam:20250726T163000
DTSTAMP:20260422T043557
CREATED:20250725T202938Z
LAST-MODIFIED:20250725T203213Z
UID:5004-1753524000-1753547400@parkmatilo.nl
SUMMARY:Romeinen in en om Leiden: ontdekkingsdagtocht
DESCRIPTION:Programma over de Romeinse legerplaats Matilo\, het kanaal van Corbulo en een bezoek het Rijksmuseum van Oudheden\nDit programma start bij Stadscafé Van der Werff in Leiden voor een vaartocht over Oude Rijn\, ooit de noordgrens van het machtige Romeinse rijk. Tweeduizend jaar geleden was het druk op en langs de Oude Rijn\, de Limes (spreek uit als Lie-mes\, noordgrens) van het machtige Romeinse Rijk. Het was een van de belangrijkste vaarroutes voor troepen en handel van Europa. \n      \nHet ochtendprogramma duurt ongeveer drie uur. We varen naar het voormalige fort Matilo\, waar 2000 jaar geleden het Romeinse leger het Kanaal van Corbulo bewaakte. Hier stappen we uit\, bezoeken het Archeologisch Park Matilo en de prachtige historische tuinen. Daarna varen we weer terug naar Leiden.\nNa de lunch bezoeken we het Rijksmuseum van Oudheden waarbij we in het bijzonder stil staan bij de vondsten die in deze streek zijn gevonden. Zowel ‘s morgens als ‘s middags gaan deskundige specialisten en gidsen mee. \nDe dagtochten Romeins Matilo worden door Historizon aangeboden in samenwerking met Stichting De Leidse Rederij\, Hazenberg Archeologie en Park Matilo. \nPraktische informatie:\nPrijs: € 69\,- p.p.\nInbegrepen: Gidsen\, koffie/thee\, vaartocht en lunch\nNiet inbegrepen: Toegang tot het Rijksmuseum van Oudheden (gratis met Museumkaart)\nMaximaal 25 deelnemers per keer\nMeer informatie en aanmelden via Historizon
URL:https://parkmatilo.nl/events/dagtocht-romeinse/
CATEGORIES:Archeologie,Castellum Matilo,Historische tuinen,Limesvaart,Oude Rijn,Park Matilo,Rijksmuseum voor Oudheden,Romeinen,Rondleiding,Vaartocht Oude Rijn,Varen
ATTACH;FMTTYPE=image/jpeg:https://parkmatilo.nl/wp-content/uploads/2025/07/varen-historizon.jpg
END:VEVENT
END:VCALENDAR