BEGIN:VCALENDAR
VERSION:2.0
PRODID:-//Park Matilo - ECPv6.15.20//NONSGML v1.0//EN
CALSCALE:GREGORIAN
METHOD:PUBLISH
X-WR-CALNAME:Park Matilo
X-ORIGINAL-URL:https://parkmatilo.nl
X-WR-CALDESC:Evenementen voor Park Matilo
REFRESH-INTERVAL;VALUE=DURATION:PT1H
X-Robots-Tag:noindex
X-PUBLISHED-TTL:PT1H
BEGIN:VTIMEZONE
TZID:Europe/Amsterdam
BEGIN:DAYLIGHT
TZOFFSETFROM:+0100
TZOFFSETTO:+0200
TZNAME:CEST
DTSTART:20210328T010000
END:DAYLIGHT
BEGIN:STANDARD
TZOFFSETFROM:+0200
TZOFFSETTO:+0100
TZNAME:CET
DTSTART:20211031T010000
END:STANDARD
BEGIN:DAYLIGHT
TZOFFSETFROM:+0100
TZOFFSETTO:+0200
TZNAME:CEST
DTSTART:20220327T010000
END:DAYLIGHT
BEGIN:STANDARD
TZOFFSETFROM:+0200
TZOFFSETTO:+0100
TZNAME:CET
DTSTART:20221030T010000
END:STANDARD
BEGIN:DAYLIGHT
TZOFFSETFROM:+0100
TZOFFSETTO:+0200
TZNAME:CEST
DTSTART:20230326T010000
END:DAYLIGHT
BEGIN:STANDARD
TZOFFSETFROM:+0200
TZOFFSETTO:+0100
TZNAME:CET
DTSTART:20231029T010000
END:STANDARD
END:VTIMEZONE
BEGIN:VEVENT
DTSTART;TZID=Europe/Amsterdam:20221007T160000
DTEND;TZID=Europe/Amsterdam:20221007T180000
DTSTAMP:20260421T222241
CREATED:20221003T085435Z
LAST-MODIFIED:20230627T115214Z
UID:2484-1665158400-1665165600@parkmatilo.nl
SUMMARY:Ontwerp je droomwijk digitaal of op papier
DESCRIPTION:Verbeeld je droomwijk in een collage of op een scherm op vrijdag 7 oktober van 16.00-18.00 uur. Kunstenaar Ludy Feyen en vormgever Micha de Bruin maken je wegwijs in de papier- dan wel digitale kunsten. \nDeelname is gratis\, wel graag opgeven via www.parkmatilo.nl/grensland of ludyfeyen@gmail.com.
URL:https://parkmatilo.nl/events/ontwerp-je-droomwijk-digitaal-of-op-papier/
LOCATION:Huis van de buurt Matilo\, Zaanstraat 126\, Leiden\, Nederland
CATEGORIES:evenement,workshop
ATTACH;FMTTYPE=image/jpeg:https://parkmatilo.nl/wp-content/uploads/2022/10/7-oktober-collage-maken.jpeg
ORGANIZER;CN="Ludy Feyen":MAILTO:info@ludyfeyen.nl
END:VEVENT
BEGIN:VEVENT
DTSTART;TZID=Europe/Amsterdam:20221009T130000
DTEND;TZID=Europe/Amsterdam:20221009T153000
DTSTAMP:20260421T222241
CREATED:20221003T082958Z
LAST-MODIFIED:20230627T115354Z
UID:2476-1665320400-1665329400@parkmatilo.nl
SUMMARY:Workshop Romeinse hapjes maken
DESCRIPTION:Op zondag 9 oktober van 13.00-14.30 uur organiseert Stichting Mooi Matilo een workshop Romeinse hapjes maken voor jong en oud. Wat aten de Romeinen? Hoe weten we dat? En is het lekker? Ontdek het tijdens deze smakelijke workshop! \nKaartjes à 6\,50 p.p. en transactie fee van € 0\,79 per bestelling zijn te koop via https://parkmatilo.nl/romeinse-hapjes-maken/ \nDe workshop vindt plaats bij Huis van de Buurt Matilo\, Zaanstraat 126\, Leiden.
URL:https://parkmatilo.nl/events/workshop-romeinse-hapjes-maken/
LOCATION:Huis van de buurt Matilo\, Zaanstraat 126\, Leiden\, Nederland
CATEGORIES:evenement,workshop
ATTACH;FMTTYPE=image/jpeg:https://parkmatilo.nl/wp-content/uploads/2022/10/Romeinse-hapjes-House_of_Julia_Felix_still_life_wine_and_fruit.jpeg
ORGANIZER;CN="Ellis Grootveld":MAILTO:ellisgrootveld@gmail.com
END:VEVENT
BEGIN:VEVENT
DTSTART;TZID=Europe/Amsterdam:20221023T130000
DTEND;TZID=Europe/Amsterdam:20221023T143000
DTSTAMP:20260421T222241
CREATED:20221003T083807Z
LAST-MODIFIED:20230627T115157Z
UID:2481-1666530000-1666535400@parkmatilo.nl
SUMMARY:Kinderworkshop Romeinse sieraden maken
DESCRIPTION:Romeinse dames (en heren!) hielden wel van mooie\, glimmende sieraden. Jij ook? Kom dan op zondag 23 oktober van 13.00-14.30 uur naar de workshop Romeinse sieraden maken en creëer je eigen Romeinse juweel. We gaan aan de slag met klei\, hout en andere materialen. \nDe workshop is gratis\, maar geef je wel even op via https://parkmatilo.nl/romeinse-sieraden-maken/. \nDe workshop vindt plaats bij Huis van de Buurt Matilo\, Zaanstraat 126\, Leiden.
URL:https://parkmatilo.nl/events/kinderworkshop-romeinse-sieraden-maken/
LOCATION:Huis van de buurt Matilo\, Zaanstraat 126\, Leiden\, Nederland
CATEGORIES:evenement,workshop
ATTACH;FMTTYPE=image/jpeg:https://parkmatilo.nl/wp-content/uploads/2022/10/Osama-Shukir-Muhammed-Amin-FRCP-CC-BY-SA-4.0-2.jpg
END:VEVENT
END:VCALENDAR