BEGIN:VCALENDAR
VERSION:2.0
PRODID:-//Park Matilo - ECPv6.15.20//NONSGML v1.0//EN
CALSCALE:GREGORIAN
METHOD:PUBLISH
X-WR-CALNAME:Park Matilo
X-ORIGINAL-URL:https://parkmatilo.nl
X-WR-CALDESC:Evenementen voor Park Matilo
REFRESH-INTERVAL;VALUE=DURATION:PT1H
X-Robots-Tag:noindex
X-PUBLISHED-TTL:PT1H
BEGIN:VTIMEZONE
TZID:Europe/Amsterdam
BEGIN:DAYLIGHT
TZOFFSETFROM:+0100
TZOFFSETTO:+0200
TZNAME:CEST
DTSTART:20240331T010000
END:DAYLIGHT
BEGIN:STANDARD
TZOFFSETFROM:+0200
TZOFFSETTO:+0100
TZNAME:CET
DTSTART:20241027T010000
END:STANDARD
BEGIN:DAYLIGHT
TZOFFSETFROM:+0100
TZOFFSETTO:+0200
TZNAME:CEST
DTSTART:20250330T010000
END:DAYLIGHT
BEGIN:STANDARD
TZOFFSETFROM:+0200
TZOFFSETTO:+0100
TZNAME:CET
DTSTART:20251026T010000
END:STANDARD
BEGIN:DAYLIGHT
TZOFFSETFROM:+0100
TZOFFSETTO:+0200
TZNAME:CEST
DTSTART:20260329T010000
END:DAYLIGHT
BEGIN:STANDARD
TZOFFSETFROM:+0200
TZOFFSETTO:+0100
TZNAME:CET
DTSTART:20261025T010000
END:STANDARD
END:VTIMEZONE
BEGIN:VEVENT
DTSTART;TZID=Europe/Amsterdam:20250726T100000
DTEND;TZID=Europe/Amsterdam:20250726T163000
DTSTAMP:20260420T210426
CREATED:20250725T202938Z
LAST-MODIFIED:20250725T203213Z
UID:5004-1753524000-1753547400@parkmatilo.nl
SUMMARY:Romeinen in en om Leiden: ontdekkingsdagtocht
DESCRIPTION:Programma over de Romeinse legerplaats Matilo\, het kanaal van Corbulo en een bezoek het Rijksmuseum van Oudheden\nDit programma start bij Stadscafé Van der Werff in Leiden voor een vaartocht over Oude Rijn\, ooit de noordgrens van het machtige Romeinse rijk. Tweeduizend jaar geleden was het druk op en langs de Oude Rijn\, de Limes (spreek uit als Lie-mes\, noordgrens) van het machtige Romeinse Rijk. Het was een van de belangrijkste vaarroutes voor troepen en handel van Europa. \n      \nHet ochtendprogramma duurt ongeveer drie uur. We varen naar het voormalige fort Matilo\, waar 2000 jaar geleden het Romeinse leger het Kanaal van Corbulo bewaakte. Hier stappen we uit\, bezoeken het Archeologisch Park Matilo en de prachtige historische tuinen. Daarna varen we weer terug naar Leiden.\nNa de lunch bezoeken we het Rijksmuseum van Oudheden waarbij we in het bijzonder stil staan bij de vondsten die in deze streek zijn gevonden. Zowel ‘s morgens als ‘s middags gaan deskundige specialisten en gidsen mee. \nDe dagtochten Romeins Matilo worden door Historizon aangeboden in samenwerking met Stichting De Leidse Rederij\, Hazenberg Archeologie en Park Matilo. \nPraktische informatie:\nPrijs: € 69\,- p.p.\nInbegrepen: Gidsen\, koffie/thee\, vaartocht en lunch\nNiet inbegrepen: Toegang tot het Rijksmuseum van Oudheden (gratis met Museumkaart)\nMaximaal 25 deelnemers per keer\nMeer informatie en aanmelden via Historizon
URL:https://parkmatilo.nl/events/dagtocht-romeinse/
CATEGORIES:Archeologie,Castellum Matilo,Historische tuinen,Limesvaart,Oude Rijn,Park Matilo,Rijksmuseum voor Oudheden,Romeinen,Rondleiding,Vaartocht Oude Rijn,Varen
ATTACH;FMTTYPE=image/jpeg:https://parkmatilo.nl/wp-content/uploads/2025/07/varen-historizon.jpg
END:VEVENT
BEGIN:VEVENT
DTSTART;VALUE=DATE:20250525
DTEND;VALUE=DATE:20250526
DTSTAMP:20260420T210426
CREATED:20250524T114227Z
LAST-MODIFIED:20250524T120844Z
UID:4861-1748131200-1748217599@parkmatilo.nl
SUMMARY:De schatten van Matilo
DESCRIPTION:Zondag 25 mei is de Fabrica gesloten en zijn er geen verhalenvertellers/rondleiders van st. Mooi Matilo aanwezig. \nWe hebben wel twee TIPs voor deze middag:\nTIP 1: lekker thuis\, droog\, is een bezoek aan het digitale museum over Park Matilo een echte aanrader. \nWist je dat in Park Matilo  onvermoede schatten verborgen liggen? Dan bedoelen we niet alleen de ondergrondse resten van Romeins fort Matilo\, dat is je vast bekend. Nee\, de moeder-overste van het St. Margarethaconvent vertelde 500 jaar geleden al over de vondst van een reus in een bronzen harnas en over een geheime antieke maar vervloekte schat!\nArcheologen hebben later inderdaad bijzondere vondsten gedaan in Matilo. Een zeldzaam verguld Romeins ruitermasker. Romeinse inscripties. Een hand van een groot bronzen standbeeld van de keizer. Een middeleeuws kasteel. Sporen van een klooster\, het St. Margarethaconvent\, waar vrome zusters baden en werkten. \nVerhalen door mensen vroeger én nu \nHet leuke aan het digitale museum is dat er niet alleen bewoners van vroeger aan het woord zijn. Ook huidige (buurt)bewoners komen aan het woord en vertellen over hun schatten van Matilo. Wie weet herken je iemand?  Klik hier om naar het museum te gaan. \nTIP 2:\nIn het Rijksmuseum voor Oudheden (RMO) in Leiden is nu de tentoonstelling Boven het maaiveld. Hier zijn nog veel meer voorwerpen te zien uit Matilo\, Roomburg\, Leiden. Van vroeger en tegenwoordig.
URL:https://parkmatilo.nl/events/de-schatten-van-matilo/
LOCATION:Park Matilo Leiden\, 4GX9+X6 Leiden\, Leiden\, Zuid Holland\, 2314AZ\, Nederland
CATEGORIES:digitale museum Matilo
ATTACH;FMTTYPE=image/jpeg:https://parkmatilo.nl/wp-content/uploads/2025/05/speelstenen-450x400-1.jpg
END:VEVENT
END:VCALENDAR