BEGIN:VCALENDAR
VERSION:2.0
PRODID:-//Park Matilo - ECPv6.15.20//NONSGML v1.0//EN
CALSCALE:GREGORIAN
METHOD:PUBLISH
X-ORIGINAL-URL:https://parkmatilo.nl
X-WR-CALDESC:Evenementen voor Park Matilo
REFRESH-INTERVAL;VALUE=DURATION:PT1H
X-Robots-Tag:noindex
X-PUBLISHED-TTL:PT1H
BEGIN:VTIMEZONE
TZID:Europe/Amsterdam
BEGIN:DAYLIGHT
TZOFFSETFROM:+0100
TZOFFSETTO:+0200
TZNAME:CEST
DTSTART:20250330T010000
END:DAYLIGHT
BEGIN:STANDARD
TZOFFSETFROM:+0200
TZOFFSETTO:+0100
TZNAME:CET
DTSTART:20251026T010000
END:STANDARD
BEGIN:DAYLIGHT
TZOFFSETFROM:+0100
TZOFFSETTO:+0200
TZNAME:CEST
DTSTART:20260329T010000
END:DAYLIGHT
BEGIN:STANDARD
TZOFFSETFROM:+0200
TZOFFSETTO:+0100
TZNAME:CET
DTSTART:20261025T010000
END:STANDARD
BEGIN:DAYLIGHT
TZOFFSETFROM:+0100
TZOFFSETTO:+0200
TZNAME:CEST
DTSTART:20270328T010000
END:DAYLIGHT
BEGIN:STANDARD
TZOFFSETFROM:+0200
TZOFFSETTO:+0100
TZNAME:CET
DTSTART:20271031T010000
END:STANDARD
END:VTIMEZONE
BEGIN:VEVENT
DTSTART;TZID=Europe/Amsterdam:20260517T140000
DTEND;TZID=Europe/Amsterdam:20260517T170000
DTSTAMP:20260426T042447
CREATED:20260425T192604Z
LAST-MODIFIED:20260425T192604Z
UID:5582-1779026400-1779037200@parkmatilo.nl
SUMMARY:Workshop Romeins koken
DESCRIPTION:Een smaakvolle lentedag in fort Matilo!  \nEen lentedag vol geuren\, smaken en ontmoetingen beleven? Kom dan op 17 mei naar Park Matilo en maak kennis met het park\, de mensen uit heden en verleden en de smaken van de Romeinse tijd! \nDoe mee met de workshop Romeins koken\, van 14.00 – 17.00 uur\, en eet natuurlijk ook mee om al het lekkers te proeven.\nDe workshop is voor iedereen en is gratis.  \nWel is het fijn al je je/jullie van tevoren aanmelden zodat we genoeg etenswaren in kunnen kopen.\nDat kan via doemijmaaroud@gmail.com   \nof \n \n 
URL:https://parkmatilo.nl/events/workshop-romeins-koken/
LOCATION:Fabrica\, midden in het park\, Park Matilo\, Leiden\, Zuid-Holland\, Nederland
CATEGORIES:Eten en drinken
ATTACH;FMTTYPE=image/png:https://parkmatilo.nl/wp-content/uploads/2026/04/Matilo-post-1.png
END:VEVENT
END:VCALENDAR